BEGIN:VCALENDAR
VERSION:2.0
PRODID:-//WSSGL - ECPv6.15.20//NONSGML v1.0//EN
CALSCALE:GREGORIAN
METHOD:PUBLISH
X-WR-CALNAME:WSSGL
X-ORIGINAL-URL:https://wssgl.com
X-WR-CALDESC:Events for WSSGL
REFRESH-INTERVAL;VALUE=DURATION:PT1H
X-Robots-Tag:noindex
X-PUBLISHED-TTL:PT1H
BEGIN:VTIMEZONE
TZID:America/New_York
BEGIN:DAYLIGHT
TZOFFSETFROM:-0500
TZOFFSETTO:-0400
TZNAME:EDT
DTSTART:20220313T070000
END:DAYLIGHT
BEGIN:STANDARD
TZOFFSETFROM:-0400
TZOFFSETTO:-0500
TZNAME:EST
DTSTART:20221106T060000
END:STANDARD
BEGIN:DAYLIGHT
TZOFFSETFROM:-0500
TZOFFSETTO:-0400
TZNAME:EDT
DTSTART:20230312T070000
END:DAYLIGHT
BEGIN:STANDARD
TZOFFSETFROM:-0400
TZOFFSETTO:-0500
TZNAME:EST
DTSTART:20231105T060000
END:STANDARD
BEGIN:DAYLIGHT
TZOFFSETFROM:-0500
TZOFFSETTO:-0400
TZNAME:EDT
DTSTART:20240310T070000
END:DAYLIGHT
BEGIN:STANDARD
TZOFFSETFROM:-0400
TZOFFSETTO:-0500
TZNAME:EST
DTSTART:20241103T060000
END:STANDARD
BEGIN:DAYLIGHT
TZOFFSETFROM:-0500
TZOFFSETTO:-0400
TZNAME:EDT
DTSTART:20250309T070000
END:DAYLIGHT
BEGIN:STANDARD
TZOFFSETFROM:-0400
TZOFFSETTO:-0500
TZNAME:EST
DTSTART:20251102T060000
END:STANDARD
END:VTIMEZONE
BEGIN:VEVENT
DTSTART;TZID=America/New_York:20240606T083000
DTEND;TZID=America/New_York:20240606T143000
DTSTAMP:20260423T064034
CREATED:20240211T161217Z
LAST-MODIFIED:20250419T113214Z
UID:10000052-1717662600-1717684200@wssgl.com
SUMMARY:Opening Field Day
DESCRIPTION:Hosted by \nCohasset Golf Club\nThursday June\, 6\, 2024\n8:30am Shotgun \nFormat\n\nABCD Bramble (Each player drives\, the best drive is chosen\, players then play their own ball into the hole).\nTwo Best Balls NET of Foursome\n60% handicap; maximum 40 handicap (players without a handicap will be assigned a 36 handicap)\n\nCost\n$85 per player\nIncludes Golf\, Cart\, Lunch\, Prizes\n$40 per person for lunch and meeting only\nLunch and Business Meeting will immediately follow golf.\nIn case of rain\, lunch will be served at 12:30 p.m. \nRegistration\nEntries open May 9th and close May 30th.\nPlease refer to the WSSGL Tournament Policies for withdrawal\, cancellation\, and refunds posted here and downloadable below. \nTournament Policies Rev 4/25/2024 PDF \nTips for smooth registration process: \n\nIf you are registering online for the first time: Please supply all the requested information and during order processing you will be prompted to set up your WSSGL account.\nIf you registered online for a tournament last year: You may already have an account on this website. For best results please login before moving forward with your registration.\nIf you have forgotten your password\, you may request a password reset here. Email web@wssgl.com if you run into difficulty logging in.\nYou may have a credit card on file if you chose to save that information for future use during a prior registration on this website. \n\nYou may register one or more players for Opening Field Day at one time\, however\, be prepared to provide Name\, Club\, Phone\, Email\, GHIN and Index for each player prior to completing your registration.\n\nHow to Register for Opening Field Day:\n \n\nIf you have already registered online for a WSSGL event in the past\, you most likely have an account on this site. Please login using the same email address you used last time before beginning the event registration. Login Now\nIf this is your first time registering online\, you do not login first. You will be prompted to create an account through the registration process.\nTo register\, select the quantity of players you would like to register\, follow the prompts to provide player information\, once all required fields are complete\, select proceed to checkout.\nCredit Card payment is preferred; select payment by check only if absolutely necessary.  Thank you!
URL:https://wssgl.com/event/opening-field-day-2024/
LOCATION:Cohasset Golf Club\, 175 Lamberts Lane\, Cohasset\, MA\, 02025\, United States
CATEGORIES:2024 Tournament,Cohasset,Duxbury,Halifax,Hatherly,Marshfield,Plymouth,Scituate,Wollaston
ORGANIZER;CN="Karen Shusterman":MAILTO:openingday@wssgl.com
END:VEVENT
BEGIN:VEVENT
DTSTART;TZID=America/New_York:20240425T180000
DTEND;TZID=America/New_York:20240425T200000
DTSTAMP:20260423T064034
CREATED:20240313T133103Z
LAST-MODIFIED:20240313T133103Z
UID:10000053-1714068000-1714075200@wssgl.com
SUMMARY:WSSGL Spring Meeting
DESCRIPTION:Thursday\, April 25th\, 6:00pm at Black Rock Country Club
URL:https://wssgl.com/event/wssgl-spring-meeting/
LOCATION:Black Rock Country Club\, 19 Clubhouse Drive\, Hingham\, MA\, 02043\, United States
CATEGORIES:Cohasset,Duxbury,Halifax,Hatherly,Marshfield,Plymouth,Scituate,Team Meeting,Wollaston
ATTACH;FMTTYPE=image/png:https://wssgl.com/wp-content/uploads/2023/04/cropped-WSSGL-Logo-1-e1681917886798.png
END:VEVENT
BEGIN:VEVENT
DTSTART;TZID=America/New_York:20230824T083000
DTEND;TZID=America/New_York:20230824T143000
DTSTAMP:20260423T064034
CREATED:20230410T001817Z
LAST-MODIFIED:20230821T112454Z
UID:10000005-1692865800-1692887400@wssgl.com
SUMMARY:Closing Field Day
DESCRIPTION:Thursday\, August 24th at the Duxbury Yacht Club \n8:30 a.m. shotgun start\nLunch and Annual Meeting will immediately follow golf\nIn case of rain\, lunch will be served at 12:30 p.m. \nFormat \n\n\n\nCombined Partners Stableford!\n100% Handicaps; Maximum 40\nTwo flights\nNet Prizes\n\n\n\nEntry Fee $150 per team ($75 per player)\nIncludes golf\, cart\, lunch on Wednesday and prizes. Players looking for a partner may contact Connie Ennis  (646) 285-6311. $35 per person lunch and annual meeting only\n \nOnline Registration Process (Entries open July 24th and close August 19th)\nTo register a two-person team\, please select “Qty 1” below and follow the prompts to provide player information. Once all required fields are complete\, “Add to Cart” and submit your order. Please note\, if you already have an account on this website (an email address and password set up when you signed up for prior events) you will be asked to login before completing your order.  You may also have a credit card on file if you chose to save that information for future use. \n \n1. If you have an account on this site\, please login before starting your registration Login Now \n2. Please sign up as a team to make it easier for WSSGL and the host club to manage pairings. \n3.  Be prepared to provide Name\, Club\, Phone\, Email\, GHIN and Index for each player. \n4. $150 fee covers both players\, please reconcile individual payments between the two of you. \n5. Credit Card payment is preferred; select payment by check if absolutely necessary.  Thank you! \n 
URL:https://wssgl.com/event/closing-field-day/
LOCATION:Duxbury Yacht Club\, 70 Fairway Lane\, Duxbury\, 02332\, United States
CATEGORIES:2023 Tournament,Cohasset,Duxbury,Halifax,Hatherly,Marshfield,Plymouth,Scituate,Wollaston
ATTACH;FMTTYPE=image/jpeg:https://wssgl.com/wp-content/uploads/2023/04/WSSGL-Closing-Field-Day-Flyer-scaled.jpg
END:VEVENT
BEGIN:VEVENT
DTSTART;TZID=America/New_York:20230810T083000
DTEND;TZID=America/New_York:20230810T133000
DTSTAMP:20260423T064034
CREATED:20230408T011507Z
LAST-MODIFIED:20230813T180512Z
UID:10000034-1691656200-1691674200@wssgl.com
SUMMARY:Match 7: *Hatherly 57* Marshfield 51
DESCRIPTION:Wollaston @ Duxbury\nMarshfield @ Hatherly\nHalifax @ Plymouth\nCohasset @ Scituate
URL:https://wssgl.com/event/match-7-marshfield-at-hatherly/
LOCATION:MA
CATEGORIES:2023 Result,2023 Team Match,Hatherly,Marshfield
ATTACH;FMTTYPE=image/jpeg:https://wssgl.com/wp-content/uploads/2023/04/4.jpg
END:VEVENT
BEGIN:VEVENT
DTSTART;TZID=America/New_York:20230727T083000
DTEND;TZID=America/New_York:20230727T133000
DTSTAMP:20260423T064034
CREATED:20230407T010728Z
LAST-MODIFIED:20230728T135756Z
UID:10000032-1690446600-1690464600@wssgl.com
SUMMARY:Match 6: *Wollaston 57* Hatherly 51
DESCRIPTION:Scituate @ Duxbury\nHalifax @ Marshfield\nCohasset @ Plymouth\nHatherly @ Wollaston
URL:https://wssgl.com/event/match-6-hatherly-at-wollaston/
LOCATION:Wollaston Golf Club\, 999 Randolph Ave\, Milton\, MA\, 02186\, United States
CATEGORIES:2023 Result,2023 Team Match,Hatherly,Wollaston
ATTACH;FMTTYPE=image/jpeg:https://wssgl.com/wp-content/uploads/2023/04/12.jpg
END:VEVENT
BEGIN:VEVENT
DTSTART;TZID=America/New_York:20230720T083000
DTEND;TZID=America/New_York:20230720T133000
DTSTAMP:20260423T064034
CREATED:20230406T003053Z
LAST-MODIFIED:20230721T151623Z
UID:10000013-1689841800-1689859800@wssgl.com
SUMMARY:Match 5: *Cohasset 60* Hatherly 48
DESCRIPTION:Hatherly @ Cohasset\nPlymouth @ Duxbury\nWollaston @Marshfield (7/26)\nHalifax @ Scituate
URL:https://wssgl.com/event/match-5-hatherly-at-cohasset/
LOCATION:Cohasset Golf Club\, 175 Lamberts Lane\, Cohasset\, MA\, 02025\, United States
CATEGORIES:2023 Result,2023 Team Match,Cohasset,Hatherly
ATTACH;FMTTYPE=image/jpeg:https://wssgl.com/wp-content/uploads/2023/04/3.jpg
END:VEVENT
BEGIN:VEVENT
DTSTART;TZID=America/New_York:20230713T083000
DTEND;TZID=America/New_York:20230713T143000
DTSTAMP:20260423T064034
CREATED:20230410T001456Z
LAST-MODIFIED:20230701T121821Z
UID:10000003-1689237000-1689258600@wssgl.com
SUMMARY:Anne Cosgrove Boros Memorial
DESCRIPTION:Hosted by\nPlymouth Country ClubThursday July 13\, 20238:30am Shotgun \nFormat\nTeam score will be the total of the best ball of all three foursomes (one gross and two net). \nRegistration\nEach team captain will register a complete list of 12 players organized in 3 teams: Gross\, Net 1 and Net 2.  \nCaptains\, please note: you will not have the ability to update your entry form once submitted. Therefore\, please submit the form with committed entries. Any changes to your team after your registration form is submitted should be directed to:  Karen Bandera boros@wssgl.com  Registration opens July 1. Entries due by end of day July 6th. \n			\n						Team Captain: Register Now\n					 \nCost & Payment\n$900/club ($75/person)Includes golf\, cart\, lunch and prizes.  Payment via check. \nPlease mail your check payable to WSSGL to: Betsy Mitchell127 Captain Peirce RoadScituate\, MA 02066 \nAbout\nThe Boros Memorial is played in memory of Anne “Buttons” Cosgrove Boros\, a state champion in 1950 at age 22 and wife of professional golfer Julius Boros.  She died in 1951 shortly after giving birth to their son\, Julius Boros\, III. The Cosgrove Family\, longtime members of Marshfield Country Club\, established this tournament in her memory in 1961.
URL:https://wssgl.com/event/anne-cosgrove-boros-memorial/
LOCATION:Plymouth Country Club\, 221 Warren Ave\, Plymouth\, MA\, 02360\, United States
CATEGORIES:2023 Tournament,Cohasset,Duxbury,Halifax,Hatherly,Marshfield,Plymouth,Scituate,Wollaston
ATTACH;FMTTYPE=image/jpeg:https://wssgl.com/wp-content/uploads/2023/04/WSSGL-Boros-Memorial-Flyer-scaled.jpg
END:VEVENT
BEGIN:VEVENT
DTSTART;TZID=America/New_York:20230706T083000
DTEND;TZID=America/New_York:20230706T133000
DTSTAMP:20260423T064034
CREATED:20230405T003344Z
LAST-MODIFIED:20230719T192647Z
UID:10000025-1688632200-1688650200@wssgl.com
SUMMARY:Match 4: *Hatherly 65* Plymouth 43
DESCRIPTION:Plymouth @ Hatherly\nDuxbury @ Marshfield\nWollaston @ Scituate (7/11)\nHalifax @ Cohasset
URL:https://wssgl.com/event/match-4-plymouth-at-hatherly/
LOCATION:Hatherly Country Club\, 663 Hatherly Rd\, Scituate\, MA\, 02066\, United States
CATEGORIES:2023 Result,2023 Team Match,Hatherly,Plymouth
ATTACH;FMTTYPE=image/jpeg:https://wssgl.com/wp-content/uploads/2023/04/4.jpg
END:VEVENT
BEGIN:VEVENT
DTSTART;TZID=America/New_York:20230629T083000
DTEND;TZID=America/New_York:20230629T133000
DTSTAMP:20260423T064034
CREATED:20230404T002622Z
LAST-MODIFIED:20230701T133832Z
UID:10000023-1688027400-1688045400@wssgl.com
SUMMARY:Match 3: *Scituate 65.5* Hatherly 42.5
DESCRIPTION:Hatherly @ Scituate\nCohasset @ Wollaston\nHalifax @ Duxbury\nMarshfield @ Plymouth
URL:https://wssgl.com/event/match-3-hatherly-at-scituate/
LOCATION:Scituate Country Club\, 91 Driftway\, Scituate\, MA\, 02066\, United States
CATEGORIES:2023 Result,2023 Team Match,Hatherly,Scituate
ATTACH;FMTTYPE=image/jpeg:https://wssgl.com/wp-content/uploads/2023/04/14.jpg
END:VEVENT
BEGIN:VEVENT
DTSTART;TZID=America/New_York:20230622T083000
DTEND;TZID=America/New_York:20230622T133000
DTSTAMP:20260423T064034
CREATED:20230403T001358Z
LAST-MODIFIED:20230701T133914Z
UID:10000019-1687422600-1687440600@wssgl.com
SUMMARY:Match 2: *Hatherly 59* Duxbury 49
DESCRIPTION:Duxbury @ Hatherly\nMarshfield @ Cohasset (8/22)\nScituate @Plymouth\nHalifax @ Wollaston
URL:https://wssgl.com/event/match-2-duxbury-at-hatherly/
LOCATION:Hatherly Country Club\, 663 Hatherly Rd\, Scituate\, MA\, 02066\, United States
CATEGORIES:2023 Result,2023 Team Match,Duxbury,Hatherly
ATTACH;FMTTYPE=image/jpeg:https://wssgl.com/wp-content/uploads/2023/04/4.jpg
END:VEVENT
BEGIN:VEVENT
DTSTART;TZID=America/New_York:20230615T083000
DTEND;TZID=America/New_York:20230615T133000
DTSTAMP:20260423T064034
CREATED:20230401T235803Z
LAST-MODIFIED:20230701T134041Z
UID:10000016-1686817800-1686835800@wssgl.com
SUMMARY:Match 1: *Hatherly 56.5* Halifax 51.5
DESCRIPTION:Halifax @ Hatherly
URL:https://wssgl.com/event/match-1-halifax-at-hatherly/
LOCATION:Hatherly Country Club\, 663 Hatherly Rd\, Scituate\, MA\, 02066\, United States
CATEGORIES:2023 Result,2023 Team Match,Halifax,Hatherly
ATTACH;FMTTYPE=image/jpeg:https://wssgl.com/wp-content/uploads/2023/04/4.jpg
END:VEVENT
BEGIN:VEVENT
DTSTART;TZID=America/New_York:20230608T083000
DTEND;TZID=America/New_York:20230608T143000
DTSTAMP:20260423T064034
CREATED:20230410T001234Z
LAST-MODIFIED:20230701T121904Z
UID:10000002-1686213000-1686234600@wssgl.com
SUMMARY:Opening Field Day
DESCRIPTION:Hosted by\nHatherly Country Club\nThursday June\, 8\, 2023\n8:30am Shotgun\nDownload Flyer JPG    |    Download Flyer PDF \nFormat\n\nA-B-C-D Bramble\nTwo Best Balls of Foursome\n60% handicap\n2 drives per player\n\nCost\n$75 per person\nIncludes Golf\, Cart\, Lunch\, Prizes\n$35 per person for lunch and meeting only\nLunch and Business Meeting will immediately follow golf.\nIn case of rain\, lunch will be served at 12:30 p.m. \nRegistration\nCloses June 1st. Open to all WSSGL members with a maximum GHIN index of 40.
URL:https://wssgl.com/event/opening-field-day/
LOCATION:Hatherly Country Club\, 663 Hatherly Rd\, Scituate\, MA\, 02066\, United States
CATEGORIES:2023 Tournament,Cohasset,Duxbury,Halifax,Hatherly,Marshfield,Plymouth,Scituate,Wollaston
ATTACH;FMTTYPE=image/jpeg:https://wssgl.com/wp-content/uploads/2023/04/WSSGL-Opening-Field-Day-Flyer-scaled.jpg
ORGANIZER;CN="Audrey Gallivan":MAILTO:openingday@wssgl.com
END:VEVENT
END:VCALENDAR