BEGIN:VCALENDAR
VERSION:2.0
PRODID:-//WSSGL - ECPv6.15.20//NONSGML v1.0//EN
CALSCALE:GREGORIAN
METHOD:PUBLISH
X-WR-CALNAME:WSSGL
X-ORIGINAL-URL:https://wssgl.com
X-WR-CALDESC:Events for WSSGL
REFRESH-INTERVAL;VALUE=DURATION:PT1H
X-Robots-Tag:noindex
X-PUBLISHED-TTL:PT1H
BEGIN:VTIMEZONE
TZID:America/New_York
BEGIN:DAYLIGHT
TZOFFSETFROM:-0500
TZOFFSETTO:-0400
TZNAME:EDT
DTSTART:20220313T070000
END:DAYLIGHT
BEGIN:STANDARD
TZOFFSETFROM:-0400
TZOFFSETTO:-0500
TZNAME:EST
DTSTART:20221106T060000
END:STANDARD
BEGIN:DAYLIGHT
TZOFFSETFROM:-0500
TZOFFSETTO:-0400
TZNAME:EDT
DTSTART:20230312T070000
END:DAYLIGHT
BEGIN:STANDARD
TZOFFSETFROM:-0400
TZOFFSETTO:-0500
TZNAME:EST
DTSTART:20231105T060000
END:STANDARD
BEGIN:DAYLIGHT
TZOFFSETFROM:-0500
TZOFFSETTO:-0400
TZNAME:EDT
DTSTART:20240310T070000
END:DAYLIGHT
BEGIN:STANDARD
TZOFFSETFROM:-0400
TZOFFSETTO:-0500
TZNAME:EST
DTSTART:20241103T060000
END:STANDARD
END:VTIMEZONE
BEGIN:VEVENT
DTSTART;TZID=America/New_York:20230810T083000
DTEND;TZID=America/New_York:20230810T133000
DTSTAMP:20260423T045640
CREATED:20230408T011658Z
LAST-MODIFIED:20230813T180610Z
UID:10000035-1691656200-1691674200@wssgl.com
SUMMARY:Match 7: *Plymouth 61* Halifax 47
DESCRIPTION:Wollaston @ Duxbury\nMarshfield @ Hatherly\nHalifax @ Plymouth\nCohasset @ Scituate
URL:https://wssgl.com/event/match-7-halifax-at-plymouth/
CATEGORIES:2023 Result,2023 Team Match,Halifax,Plymouth
ATTACH;FMTTYPE=image/jpeg:https://wssgl.com/wp-content/uploads/2023/04/13.jpg
END:VEVENT
BEGIN:VEVENT
DTSTART;TZID=America/New_York:20230727T083000
DTEND;TZID=America/New_York:20230727T133000
DTSTAMP:20260423T045640
CREATED:20230407T011238Z
LAST-MODIFIED:20230728T135822Z
UID:10000033-1690446600-1690464600@wssgl.com
SUMMARY:Match 6: *Marshfield 66* Halifax 42
DESCRIPTION:Scituate @ Duxbury\nHalifax @ Marshfield\nCohasset @ Plymouth\nHatherly @ Wollaston
URL:https://wssgl.com/event/match-6-halifax-at-marshfield/
LOCATION:Marshfield Country Club\, 515 Moraine Street\, Marshfield\, 02050\, United States
CATEGORIES:2023 Result,2023 Team Match,Halifax,Marshfield
ATTACH;FMTTYPE=image/jpeg:https://wssgl.com/wp-content/uploads/2023/04/10.jpg
END:VEVENT
BEGIN:VEVENT
DTSTART;TZID=America/New_York:20230718T083000
DTEND;TZID=America/New_York:20230718T143000
DTSTAMP:20260423T045640
CREATED:20230406T005537Z
LAST-MODIFIED:20230721T151636Z
UID:10000029-1689669000-1689690600@wssgl.com
SUMMARY:Match 5: *Scituate 66* Halifax 42
DESCRIPTION:Halifax @ Scituate\nWollaston @Marshfield (7/26)\nHatherly @ Cohasset (7/20)\nPlymouth @ Duxbury (7/20)
URL:https://wssgl.com/event/match-5-halifax-at-scituate/
LOCATION:Scituate Country Club\, 91 Driftway\, Scituate\, MA\, 02066\, United States
CATEGORIES:2023 Result,2023 Team Match,Halifax,Scituate
ATTACH;FMTTYPE=image/jpeg:https://wssgl.com/wp-content/uploads/2023/04/14.jpg
END:VEVENT
BEGIN:VEVENT
DTSTART;TZID=America/New_York:20230713T083000
DTEND;TZID=America/New_York:20230713T143000
DTSTAMP:20260423T045640
CREATED:20230410T001456Z
LAST-MODIFIED:20230701T121821Z
UID:10000003-1689237000-1689258600@wssgl.com
SUMMARY:Anne Cosgrove Boros Memorial
DESCRIPTION:Hosted by\nPlymouth Country ClubThursday July 13\, 20238:30am Shotgun \nFormat\nTeam score will be the total of the best ball of all three foursomes (one gross and two net). \nRegistration\nEach team captain will register a complete list of 12 players organized in 3 teams: Gross\, Net 1 and Net 2.  \nCaptains\, please note: you will not have the ability to update your entry form once submitted. Therefore\, please submit the form with committed entries. Any changes to your team after your registration form is submitted should be directed to:  Karen Bandera boros@wssgl.com  Registration opens July 1. Entries due by end of day July 6th. \n			\n						Team Captain: Register Now\n					 \nCost & Payment\n$900/club ($75/person)Includes golf\, cart\, lunch and prizes.  Payment via check. \nPlease mail your check payable to WSSGL to: Betsy Mitchell127 Captain Peirce RoadScituate\, MA 02066 \nAbout\nThe Boros Memorial is played in memory of Anne “Buttons” Cosgrove Boros\, a state champion in 1950 at age 22 and wife of professional golfer Julius Boros.  She died in 1951 shortly after giving birth to their son\, Julius Boros\, III. The Cosgrove Family\, longtime members of Marshfield Country Club\, established this tournament in her memory in 1961.
URL:https://wssgl.com/event/anne-cosgrove-boros-memorial/
LOCATION:Plymouth Country Club\, 221 Warren Ave\, Plymouth\, MA\, 02360\, United States
CATEGORIES:2023 Tournament,Cohasset,Duxbury,Halifax,Hatherly,Marshfield,Plymouth,Scituate,Wollaston
ATTACH;FMTTYPE=image/jpeg:https://wssgl.com/wp-content/uploads/2023/04/WSSGL-Boros-Memorial-Flyer-scaled.jpg
END:VEVENT
BEGIN:VEVENT
DTSTART;TZID=America/New_York:20230706T120000
DTEND;TZID=America/New_York:20230706T160000
DTSTAMP:20260423T045640
CREATED:20230405T002617Z
LAST-MODIFIED:20230719T192648Z
UID:10000010-1688644800-1688659200@wssgl.com
SUMMARY:Match 4: *Cohasset 68* Halifax 40
DESCRIPTION:Halifax @ Cohasset\nPlymouth @ Hatherly\nDuxbury @ Marshfield\nWollaston @ Scituate (7/11)
URL:https://wssgl.com/event/match-4-halifax-at-cohasset/
LOCATION:Cohasset Golf Club\, 175 Lamberts Lane\, Cohasset\, MA\, 02025\, United States
CATEGORIES:2023 Result,2023 Team Match,Cohasset,Halifax
ATTACH;FMTTYPE=image/jpeg:https://wssgl.com/wp-content/uploads/2023/04/3.jpg
END:VEVENT
BEGIN:VEVENT
DTSTART;TZID=America/New_York:20230629T083000
DTEND;TZID=America/New_York:20230629T133000
DTSTAMP:20260423T045640
CREATED:20230404T002516Z
LAST-MODIFIED:20230701T133840Z
UID:10000009-1688027400-1688045400@wssgl.com
SUMMARY:Match 3: *Duxbury 62* Halifax 46
DESCRIPTION:Halifax @ Duxbury\nMarshfield @ Plymouth\nHatherly @ Scituate\nCohasset @ Wollaston
URL:https://wssgl.com/event/match-3-halifax-at-duxbury/
LOCATION:Duxbury Yacht Club\, 70 Fairway Lane\, Duxbury\, 02332\, United States
CATEGORIES:2023 Result,2023 Team Match,Duxbury,Halifax
ATTACH;FMTTYPE=image/jpeg:https://wssgl.com/wp-content/uploads/2023/04/1.jpg
END:VEVENT
BEGIN:VEVENT
DTSTART;TZID=America/New_York:20230622T083000
DTEND;TZID=America/New_York:20230622T133000
DTSTAMP:20260423T045640
CREATED:20230403T002025Z
LAST-MODIFIED:20230701T133859Z
UID:10000021-1687422600-1687440600@wssgl.com
SUMMARY:Match 2: *Wollaston 67* Halifax 41
DESCRIPTION:Halifax @ Wollaston\nScituate @Plymouth\nDuxbury @ Hatherly\nMarshfield @ Cohasset (8/22)
URL:https://wssgl.com/event/match-2-halifax-at-wollaston/
LOCATION:Wollaston Golf Club\, 999 Randolph Ave\, Milton\, MA\, 02186\, United States
CATEGORIES:2023 Result,2023 Team Match,Halifax,Wollaston
ATTACH;FMTTYPE=image/jpeg:https://wssgl.com/wp-content/uploads/2023/04/12.jpg
END:VEVENT
BEGIN:VEVENT
DTSTART;TZID=America/New_York:20230615T083000
DTEND;TZID=America/New_York:20230615T133000
DTSTAMP:20260423T045640
CREATED:20230401T235803Z
LAST-MODIFIED:20230701T134041Z
UID:10000016-1686817800-1686835800@wssgl.com
SUMMARY:Match 1: *Hatherly 56.5* Halifax 51.5
DESCRIPTION:Halifax @ Hatherly
URL:https://wssgl.com/event/match-1-halifax-at-hatherly/
LOCATION:Hatherly Country Club\, 663 Hatherly Rd\, Scituate\, MA\, 02066\, United States
CATEGORIES:2023 Result,2023 Team Match,Halifax,Hatherly
ATTACH;FMTTYPE=image/jpeg:https://wssgl.com/wp-content/uploads/2023/04/4.jpg
END:VEVENT
BEGIN:VEVENT
DTSTART;TZID=America/New_York:20230608T083000
DTEND;TZID=America/New_York:20230608T143000
DTSTAMP:20260423T045640
CREATED:20230410T001234Z
LAST-MODIFIED:20230701T121904Z
UID:10000002-1686213000-1686234600@wssgl.com
SUMMARY:Opening Field Day
DESCRIPTION:Hosted by\nHatherly Country Club\nThursday June\, 8\, 2023\n8:30am Shotgun\nDownload Flyer JPG    |    Download Flyer PDF \nFormat\n\nA-B-C-D Bramble\nTwo Best Balls of Foursome\n60% handicap\n2 drives per player\n\nCost\n$75 per person\nIncludes Golf\, Cart\, Lunch\, Prizes\n$35 per person for lunch and meeting only\nLunch and Business Meeting will immediately follow golf.\nIn case of rain\, lunch will be served at 12:30 p.m. \nRegistration\nCloses June 1st. Open to all WSSGL members with a maximum GHIN index of 40.
URL:https://wssgl.com/event/opening-field-day/
LOCATION:Hatherly Country Club\, 663 Hatherly Rd\, Scituate\, MA\, 02066\, United States
CATEGORIES:2023 Tournament,Cohasset,Duxbury,Halifax,Hatherly,Marshfield,Plymouth,Scituate,Wollaston
ATTACH;FMTTYPE=image/jpeg:https://wssgl.com/wp-content/uploads/2023/04/WSSGL-Opening-Field-Day-Flyer-scaled.jpg
ORGANIZER;CN="Audrey Gallivan":MAILTO:openingday@wssgl.com
END:VEVENT
END:VCALENDAR