BEGIN:VCALENDAR
VERSION:2.0
PRODID:-//WSSGL - ECPv6.15.20//NONSGML v1.0//EN
CALSCALE:GREGORIAN
METHOD:PUBLISH
X-WR-CALNAME:WSSGL
X-ORIGINAL-URL:https://wssgl.com
X-WR-CALDESC:Events for WSSGL
REFRESH-INTERVAL;VALUE=DURATION:PT1H
X-Robots-Tag:noindex
X-PUBLISHED-TTL:PT1H
BEGIN:VTIMEZONE
TZID:America/New_York
BEGIN:DAYLIGHT
TZOFFSETFROM:-0500
TZOFFSETTO:-0400
TZNAME:EDT
DTSTART:20250309T070000
END:DAYLIGHT
BEGIN:STANDARD
TZOFFSETFROM:-0400
TZOFFSETTO:-0500
TZNAME:EST
DTSTART:20251102T060000
END:STANDARD
BEGIN:DAYLIGHT
TZOFFSETFROM:-0500
TZOFFSETTO:-0400
TZNAME:EDT
DTSTART:20260308T070000
END:DAYLIGHT
BEGIN:STANDARD
TZOFFSETFROM:-0400
TZOFFSETTO:-0500
TZNAME:EST
DTSTART:20261101T060000
END:STANDARD
BEGIN:DAYLIGHT
TZOFFSETFROM:-0500
TZOFFSETTO:-0400
TZNAME:EDT
DTSTART:20270314T070000
END:DAYLIGHT
BEGIN:STANDARD
TZOFFSETFROM:-0400
TZOFFSETTO:-0500
TZNAME:EST
DTSTART:20271107T060000
END:STANDARD
END:VTIMEZONE
BEGIN:VEVENT
DTSTART;TZID=America/New_York:20260604T083000
DTEND;TZID=America/New_York:20260604T143000
DTSTAMP:20260422T181928
CREATED:20260316T194718Z
LAST-MODIFIED:20260317T180025Z
UID:10000165-1780561800-1780583400@wssgl.com
SUMMARY:Opening Field Day 2026
DESCRIPTION:Hosted by Hatherly\nThursday June 4\, 2026  | 8:30am Shotgun\nTournament Contacts: Contact Lee Slattery\, Kim Brooks\, Susan Cronin at openingday@wssgl.com \nFormat \n\nABCD Bramble (Each player drives\, the best drive is chosen\, players then play their own ball into the hole).\nTwo Best Balls NET of Foursome\n60% handicap; maximum 40 handicap (players without a handicap will be assigned a 36 handicap)\n\nCost \n\n$95 per player\nIncludes Golf\, Cart\, Lunch\, Prizes\n$45 per person for lunch and meeting only.\nLunch and Business Meeting will immediately follow golf.\nIn case of rain\, lunch will be served at 12:30 p.m.\n\nRegistration \nEntries open May 7th and close May 28th. \nPolicies \n\nPlease refer to the WSSGL Tournament Policies for withdrawal\, cancellation\, and refunds posted here and downloadable below.\nTournament Policies Rev 4/25/2024 PDF\n\nQuick‑Start Guide: Registering for Opening Field Day \nBefore You Proceed \n\nKnow your status. Is this the first time you have registered for a WSSGL event online\, or is this your first‑time? The steps are slightly different. See below.\nHave player details ready. For every golfer you plan to enter you’ll need: Name\, Club\, Phone\, Email\, GHIN #\, and Handicap Index.\n\nReturning Players (Already Created an Account Last Season) \n\nLog in first using the same email you used last year.\nCan’t remember the password? Hit “Forgot Password” on the login screen to receive a reset link\, or email web@wssgl.com for help.\nIf you saved a credit card last year\, it will be available at checkout—no extra typing required. You may also add a different card at checkout.\n\nFirst‑Time Players (never registered online) \n\nStart the registration process below\, select number of players and click add to cart.\nFill in every required field (including those player details you gathered earlier) and finish payment.\nDuring checkout you’ll be prompted to create your WSSGL account.\nSave your login credentials for future events.
URL:https://wssgl.com/event/opening-field-day-2026/
LOCATION:Hatherly Country Club\, 663 Hatherly Rd\, Scituate\, MA\, 02066\, United States
CATEGORIES:2026 Tournament,Cohasset,Duxbury,Halifax,Hatherly,Marshfield,Plymouth,Scituate,Wollaston
ATTACH;FMTTYPE=image/jpeg:https://wssgl.com/wp-content/uploads/2026/03/Opening-Field-Day-2026-WSSGL.jpg
END:VEVENT
BEGIN:VEVENT
DTSTART;TZID=America/New_York:20260611T083000
DTEND;TZID=America/New_York:20260611T133000
DTSTAMP:20260422T181928
CREATED:20260316T163544Z
LAST-MODIFIED:20260316T164659Z
UID:10000158-1781166600-1781184600@wssgl.com
SUMMARY:Match 6: Wollaston @ Cohasset
DESCRIPTION:Wollaston @ Cohasset
URL:https://wssgl.com/event/match-6-wollaston-cohasset/
LOCATION:Cohasset Golf Club\, 175 Lamberts Lane\, Cohasset\, MA\, 02025\, United States
CATEGORIES:2026 Team Match,Cohasset,Wollaston
ATTACH;FMTTYPE=image/jpeg:https://wssgl.com/wp-content/uploads/2023/04/3.jpg
END:VEVENT
BEGIN:VEVENT
DTSTART;TZID=America/New_York:20260616T083000
DTEND;TZID=America/New_York:20260616T133000
DTSTAMP:20260422T181928
CREATED:20260316T154851Z
LAST-MODIFIED:20260316T155151Z
UID:10000148-1781598600-1781616600@wssgl.com
SUMMARY:Match 3: Scituate @ Cohasset
DESCRIPTION:Scituate @ Cohasset
URL:https://wssgl.com/event/match-3-scituate-at-cohasset-2026/
LOCATION:Cohasset Golf Club\, 175 Lamberts Lane\, Cohasset\, MA\, 02025\, United States
CATEGORIES:2026 Team Match,Cohasset,Scituate
ATTACH;FMTTYPE=image/jpeg:https://wssgl.com/wp-content/uploads/2023/04/3.jpg
END:VEVENT
BEGIN:VEVENT
DTSTART;TZID=America/New_York:20260618T083000
DTEND;TZID=America/New_York:20260618T133000
DTSTAMP:20260422T181928
CREATED:20260316T152339Z
LAST-MODIFIED:20260316T152339Z
UID:10000140-1781771400-1781789400@wssgl.com
SUMMARY:Match 1: Cohasset @ Hatherly
DESCRIPTION:Cohasset @ Hatherly
URL:https://wssgl.com/event/match-1-cohasset-at-hatherly-2026/
LOCATION:Hatherly Country Club\, 663 Hatherly Rd\, Scituate\, MA\, 02066\, United States
CATEGORIES:2026 Team Match,Cohasset,Hatherly
ATTACH;FMTTYPE=image/jpeg:https://wssgl.com/wp-content/uploads/2023/04/4.jpg
END:VEVENT
BEGIN:VEVENT
DTSTART;TZID=America/New_York:20260630T083000
DTEND;TZID=America/New_York:20260630T150000
DTSTAMP:20260422T181928
CREATED:20251205T141033Z
LAST-MODIFIED:20260316T145705Z
UID:10000136-1782808200-1782831600@wssgl.com
SUMMARY:"Girls on Course" at Marshfield Country Club
DESCRIPTION:Registration & Parental Consent\n					\n					\n									Volunteer\n					\n					\n									Sponsor\n					 \nIn 2026\, the Women’s South Shore Golf League (WSSGL) is celebrating 100 years of women’s golf—and we’re inviting the next generation to get in the game. “Girls on Course” is a free\, fun-filled golf clinic for South Shore girls ages 5–17\, designed for absolute beginners and young players who already love the sport. Participants are grouped by age and experience so every girl gets the right level of coaching\, support\, and challenge. \nEvent Details \nWhat: “Girls on Course” Golf Clinic – Get in the Game! \nWho: Girls ages 5–17 (South Shore and surrounding communities) \nDate: Tuesday\, June 30\, 2026Rain Date: Wednesday\, July 1\, 2026 \nCheck-In Time: 8:30am \nClinic Time: 9am to 3pm* *9-12:30 for participants under 8 \nLocation: Marshfield Country Club\, 515 Moraine St. (Rte. 3A)\, Marshfield\, MA \nCost: FREE sponsored by the WSSGL\, MassGolf\, PGA Reach Foundation\, and Marshfield Country Club \nEvent Contact: Deb Annese \nLearn • Play • Be Inspired \nThis special centennial event is all about helping girls: \n\nLEARN – Build golf fundamentals with supportive\, age-appropriate instruction\nPLAY – Enjoy on-course activities in a relaxed\, confidence-building environment\nBE INSPIRED – Meet female golfers\, make new friends\, and see how golf can be a lifelong sport\n\nAll instruction is led by PGA Professionals and Assistants\, creating a welcoming atmosphere where every girl can try something new\, improve her skills\, and have fun. \nWhat’s Included \n\nExpert instruction from PGA Pros & Assistants\nAge- and skill-based groups so beginners and experienced players are both comfortable and challenged\nEquipment provided if needed – no clubs required (bring your own if you have them)\nLight breakfast and lunch\nFun giveaways and treats throughout the day\n\nGoal: Help girls make friends\, have fun\, and build skills in a sport they can enjoy for life. \nWho Should Attend? \nThis clinic is perfect for: \n\nGirls who have never played golf but are curious to try\nYoung players who already enjoy golf and want more time on the course\nParents looking for a positive\, confidence-building sports experience in a supportive\, all-girls setting\n\nWhat to Bring \n\nComfortable\, weather-appropriate clothing\nSneakers or golf shoes\nWater bottle\nPersonal clubs (optional – equipment is available if needed)\n\nSignup deadline is May 25! Register now to secure your spot. \n\nClick here to register and submit parental consent. Limited to 100 participants. 
URL:https://wssgl.com/event/girls-on-the-course-at-marshfield-country-club/
LOCATION:Marshfield Country Club\, 515 Moraine Street\, Marshfield\, 02050\, United States
CATEGORIES:Cohasset,Duxbury,Halifax,Hatherly,Marshfield,Plymouth,Scituate,Special Event,Wollaston
ATTACH;FMTTYPE=image/jpeg:https://wssgl.com/wp-content/uploads/2025/12/Girls-on-Course-Clinic-at-MCC-Sponsored-by-Mass-Golf-and-PGA-Reach-Foundation.jpg
END:VEVENT
BEGIN:VEVENT
DTSTART;TZID=America/New_York:20260714T083000
DTEND;TZID=America/New_York:20260714T133000
DTSTAMP:20260422T181928
CREATED:20260316T163403Z
LAST-MODIFIED:20260316T163955Z
UID:10000163-1784017800-1784035800@wssgl.com
SUMMARY:Match 7: Halifax @ Cohasset
DESCRIPTION:Halifax @ Cohasset
URL:https://wssgl.com/event/match-7-halifax-at-cohasset-2026/
LOCATION:Cohasset Golf Club\, 175 Lamberts Lane\, Cohasset\, MA\, 02025\, United States
CATEGORIES:2026 Team Match,Cohasset,Halifax
ATTACH;FMTTYPE=image/jpeg:https://wssgl.com/wp-content/uploads/2023/04/3.jpg
END:VEVENT
BEGIN:VEVENT
DTSTART;TZID=America/New_York:20260716T083000
DTEND;TZID=America/New_York:20260716T143000
DTSTAMP:20260422T181928
CREATED:20260316T194704Z
LAST-MODIFIED:20260317T172225Z
UID:10000166-1784190600-1784212200@wssgl.com
SUMMARY:Anne Cosgrove Boros Memorial 2026
DESCRIPTION:Hosted by\nPlymouth Country Club\nThursday July 16\, 2026 | 8:30am Shotgun\n \nFormat\n\nBest Ball. Team score is the total of the best ball of all 3 foursomes (one gross and two net).\n100% handicap with maximum index of 30.4. Players with higher index will play to 30.4.\n\nRegistration\n\nRegistration opens June 18th. Entries due by end of day July 9th.\nEach club assigns 12 players total\, assembling 3 teams:\n\nOne Best Ball Gross Foursome.\nTwo Best Ball Net Foursomes.\n\n\nRegister your team online and send team payment to the treasurer\, details below.\nPlease submit your form once with committed entries.\nAny changes to your team after your registration form is submitted should be directed to Karen Bandera and Patty Glynn at  boros@wssgl.com\n\nCost & Payment\n$95 per player ($1140 per club)\nIncludes golf\, cart\, lunch and prizes. In case of rain\, lunch will be served at 12:30pm. \nCaptains\, mail your check payable to WSSGL to:\nBetsy Mitchell\n127 Captain Peirce Road\nScituate\, MA 02066 \n\nRegister Now: Team Captains Only\n \nPrizes\nWinning team players receive Boros Pins and the winning club keeps the Boros Plaque for one year. Prizes are also awarded to foursomes for low gross and low net scores. \nAbout\nThe Boros Memorial is played in memory of Anne “Buttons” Cosgrove Boros\, a state champion in 1950 at age 22 and wife of professional golfer Julius Boros.  She died in 1951 shortly after giving birth to their son\, Julius Boros\, III. The Cosgrove Family\, longtime members of Marshfield Country Club\, established this tournament in her memory in 1961.
URL:https://wssgl.com/event/anne-cosgrove-boros-memorial-2026/
LOCATION:Plymouth Country Club\, 221 Warren Ave\, Plymouth\, MA\, 02360\, United States
CATEGORIES:2026 Tournament,Cohasset,Duxbury,Halifax,Hatherly,Marshfield,Plymouth,Scituate,Wollaston
ATTACH;FMTTYPE=image/jpeg:https://wssgl.com/wp-content/uploads/2026/03/Boros-2026-WSSGL.jpg
END:VEVENT
BEGIN:VEVENT
DTSTART;TZID=America/New_York:20260723T083000
DTEND;TZID=America/New_York:20260723T133000
DTSTAMP:20260422T181928
CREATED:20260316T155434Z
LAST-MODIFIED:20260316T155928Z
UID:10000150-1784795400-1784813400@wssgl.com
SUMMARY:Match 4: Cohasset @ Duxbury
DESCRIPTION:Cohasset @ Duxbury
URL:https://wssgl.com/event/match-4-cohasset-at-duxbury-2026/
LOCATION:Duxbury Yacht Club\, 70 Fairway Lane\, Duxbury\, 02332\, United States
CATEGORIES:2026 Team Match,Cohasset,Duxbury
ATTACH;FMTTYPE=image/jpeg:https://wssgl.com/wp-content/uploads/2023/04/1.jpg
END:VEVENT
BEGIN:VEVENT
DTSTART;TZID=America/New_York:20260730T083000
DTEND;TZID=America/New_York:20260730T133000
DTSTAMP:20260422T181928
CREATED:20260316T160438Z
LAST-MODIFIED:20260316T161053Z
UID:10000154-1785400200-1785418200@wssgl.com
SUMMARY:Match 5: Cohasset @ Marshfield
DESCRIPTION:Cohasset @ Marshfield
URL:https://wssgl.com/event/match-5-cohasset-at-marshfield-2026/
LOCATION:Marshfield Country Club\, 515 Moraine Street\, Marshfield\, 02050\, United States
CATEGORIES:2026 Team Match,Cohasset,Marshfield
ATTACH;FMTTYPE=image/jpeg:https://wssgl.com/wp-content/uploads/2023/04/10.jpg
END:VEVENT
BEGIN:VEVENT
DTSTART;TZID=America/New_York:20260810T083000
DTEND;TZID=America/New_York:20260810T140000
DTSTAMP:20260422T181928
CREATED:20260317T161354Z
LAST-MODIFIED:20260317T180152Z
UID:10000168-1786350600-1786370400@wssgl.com
SUMMARY:Four Ball Championship & Annual Meeting
DESCRIPTION:Monday August 10: Duxbury Yacht Club \n8:30 a.m. shotgun\nTournament Host: Contact Carolyn Loiselle at fourball@wssgl.com \nFormat \n\nBest Ball of Twosome\nGross & Net\nFlighted by handicap\n100% handicap\, maximum 40\n\nFees\n \n\n$95 per player ($190 per twosome)\nFee includes golf\, cart\, lunch and prizes.\nFourball is a one-day event this year\, and includes the Annual Meeting due to the Centennial Celebration on Closing Field Day (Sept. 9)\nIn case of rain\, lunch will be served at 12:30pm\, followed by the Annual Meeting.\n\nRegistration\nEntries open July 13th and closes August 3rd. \nHow to Register \n\nOne partner registers online for the team. The fee covers both players\, please reconcile individual payments between the twosome.\n\nPlayers looking for a partner may contact fourball@wssgl.com\n\nPrizes\nOverall Gross and Net Winners keep championship trophies for one year; gross and net prizes all flights. \nPolicies\nPlease read and understand the WSSGL Tournament Policies prior to registering. Download here. \nQuick‑Start Guide: Registering for Fourball \nBefore You Click Anything \n\nKnow your status. Have you registered for a WSSGL event online before\, or are you a first‑timer? The steps are slightly different.\nHave player details ready. For every golfer you plan to enter you’ll need: Name\, Club\, Phone\, Email\, GHIN #\, and Handicap Index.\nRegister as a twosome. The fee of $190 covers both players. Please reconcile individual payments between the twosome.\n\nReturning Players (Already Created an Account Last Season) \n\nLog in first using the same email you used last year.\nCan’t remember the password? Hit “Forgot Password” on the login screen to receive a reset link\, or email web@wssgl.com for help.\nIf you saved a credit card last year\, it will be available at checkout—no extra typing required. You may also add a different card at checkout.\n\nFirst‑Time Players (never registered online) \n\nStart the registration process below\, select number of players and click add to cart.\nFill in every required field (including those player details you gathered earlier) and finish payment.\nDuring checkout you’ll be prompted to create your WSSGL account.\nSave your login credentials for future events.
URL:https://wssgl.com/event/four-ball-championship-hosted-by-dyc-2026/
LOCATION:Duxbury Yacht Club\, 70 Fairway Lane\, Duxbury\, 02332\, United States
CATEGORIES:2026 Tournament,Cohasset,Duxbury,Halifax,Hatherly,Marshfield,Plymouth,Scituate,Wollaston
ATTACH;FMTTYPE=image/jpeg:https://wssgl.com/wp-content/uploads/2026/03/Four-Ball-2026-WSSGL.jpg
END:VEVENT
BEGIN:VEVENT
DTSTART;VALUE=DATE:20260909
DTEND;VALUE=DATE:20260910
DTSTAMP:20260422T181928
CREATED:20250802T204535Z
LAST-MODIFIED:20260317T180325Z
UID:10000131-1788912000-1788998399@wssgl.com
SUMMARY:WSSGL Centennial Celebration
DESCRIPTION:Save the Date: 100 Years of Women’s Golf on the South Shore \nIn 2026\, the Women’s South Shore Golf League will celebrate a remarkable milestone: 100 years of competition\, camaraderie\, and tradition. \nJoin us for a commemorative day honoring the League’s rich history and bright future with a centennial golf tournament and celebration at Wollaston Golf Club on Wednesday\, September 9\, 2026. \nThis special event will bring together women golfers and member clubs from across the South Shore to recognize the legacy of the League\, celebrate the friendships and sportsmanship it has fostered over the past century\, and look ahead to the next 100 years. \nEvent Details \nEvent: Women’s South Shore Golf League 100th Celebration\nDate: Wednesday\, September 9\, 2026\nLocation: Wollaston Golf Club\nFormat: Commemorative Golf Tournament followed by a Centennial Celebration\nContacts: Patty Andresino and Barbara Quinn at closingday@wssgl.com \nAdditional event details\, schedule information\, and registration instructions will be announced soon. \nCelebrating a Century of Tradition \nSince 1926\, the Women’s South Shore Golf League has brought together generations of women golfers through spirited competition\, shared traditions\, and a deep love of the game. The Centennial Celebration will honor that legacy while creating a memorable occasion for today’s players\, member clubs\, and supporters. \nThis event is more than a tournament. It is a celebration of the women\, clubs\, and community that have shaped the League over the last 100 years. \nParticipating Clubs \nThe Women’s South Shore Golf League is proud to celebrate this centennial milestone with its member clubs\, including: \n\nCohasset Golf Club\nDuxbury Yacht Club\nWollaston Golf Club\nMarshfield Country Club\nHatherly Country Club\nScituate Country Club\nPlymouth Country Club\n\nMark Your Calendar \nWe hope you will plan to be part of this historic event. Whether you have been involved with the League for many years or are part of its next generation\, the Centennial Celebration promises to be a meaningful and memorable occasion. \nSave the date now and check back soon for more details.
URL:https://wssgl.com/event/wssgl-centennial-celebration/
CATEGORIES:Cohasset,Duxbury,Halifax,Hatherly,Marshfield,Plymouth,Scituate,Special Event,Wollaston
ATTACH;FMTTYPE=image/jpeg:https://wssgl.com/wp-content/uploads/2026/03/Centennial-Celebration-and-Closing-Field-Day-2026.jpg
END:VEVENT
END:VCALENDAR