BEGIN:VCALENDAR
VERSION:2.0
PRODID:-//WSSGL - ECPv6.15.20//NONSGML v1.0//EN
CALSCALE:GREGORIAN
METHOD:PUBLISH
X-WR-CALNAME:WSSGL
X-ORIGINAL-URL:https://wssgl.com
X-WR-CALDESC:Events for WSSGL
REFRESH-INTERVAL;VALUE=DURATION:PT1H
X-Robots-Tag:noindex
X-PUBLISHED-TTL:PT1H
BEGIN:VTIMEZONE
TZID:America/New_York
BEGIN:DAYLIGHT
TZOFFSETFROM:-0500
TZOFFSETTO:-0400
TZNAME:EDT
DTSTART:20240310T070000
END:DAYLIGHT
BEGIN:STANDARD
TZOFFSETFROM:-0400
TZOFFSETTO:-0500
TZNAME:EST
DTSTART:20241103T060000
END:STANDARD
BEGIN:DAYLIGHT
TZOFFSETFROM:-0500
TZOFFSETTO:-0400
TZNAME:EDT
DTSTART:20250309T070000
END:DAYLIGHT
BEGIN:STANDARD
TZOFFSETFROM:-0400
TZOFFSETTO:-0500
TZNAME:EST
DTSTART:20251102T060000
END:STANDARD
BEGIN:DAYLIGHT
TZOFFSETFROM:-0500
TZOFFSETTO:-0400
TZNAME:EDT
DTSTART:20260308T070000
END:DAYLIGHT
BEGIN:STANDARD
TZOFFSETFROM:-0400
TZOFFSETTO:-0500
TZNAME:EST
DTSTART:20261101T060000
END:STANDARD
END:VTIMEZONE
BEGIN:VEVENT
DTSTART;VALUE=DATE:20250829
DTEND;VALUE=DATE:20250830
DTSTAMP:20260423T032141
CREATED:20250829T164046Z
LAST-MODIFIED:20250829T164322Z
UID:10000135-1756425600-1756511999@wssgl.com
SUMMARY:Final 2025 Team Standings
DESCRIPTION:Congratulations to Cohasset\, WSSGL Team Champions for 2025! \n\nCohasset 414.5\nMarshfield 412.5\nPlymouth 392\nDuxbury 390\nHatherly 374.5\nScituate 371.5\nWollaston 360\nHalifax 309
URL:https://wssgl.com/event/final-2025-team-standings/
CATEGORIES:2025 Team Standings
ATTACH;FMTTYPE=image/jpeg:https://wssgl.com/wp-content/uploads/2023/04/3.jpg
END:VEVENT
BEGIN:VEVENT
DTSTART;VALUE=DATE:20250822
DTEND;VALUE=DATE:20250823
DTSTAMP:20260423T032141
CREATED:20250822T143110Z
LAST-MODIFIED:20250822T143147Z
UID:10000134-1755820800-1755907199@wssgl.com
SUMMARY:Team Standings as of August 22\, 2025
DESCRIPTION:Teams in red have matches that have been rescheduled. \n\nCohasset 414.5\nPlymouth 392\nDuxbury 390\nScituate 371.5\nMarshfield 338.5\nHatherly 323.5\nWollaston 303\nHalifax 275
URL:https://wssgl.com/event/team-standings-as-of-august-22-2025/
CATEGORIES:2025 Team Standings
END:VEVENT
BEGIN:VEVENT
DTSTART;VALUE=DATE:20250815
DTEND;VALUE=DATE:20250816
DTSTAMP:20260423T032141
CREATED:20250816T131220Z
LAST-MODIFIED:20250816T131220Z
UID:10000133-1755216000-1755302399@wssgl.com
SUMMARY:Team Standings as of August 15\, 2025
DESCRIPTION:Plymouth 288.5\nScituate 258.5\nCohasset  242.5\nMarshfield 235\nHatherly 216.5\nDuxbury 212.5\nWollaston 192.5\nHalifax 190
URL:https://wssgl.com/event/team-standings-as-of-august-15-2025/
CATEGORIES:2025 Team Standings
END:VEVENT
BEGIN:VEVENT
DTSTART;VALUE=DATE:20250808
DTEND;VALUE=DATE:20250809
DTSTAMP:20260423T032141
CREATED:20250816T130643Z
LAST-MODIFIED:20250816T130643Z
UID:10000132-1754611200-1754697599@wssgl.com
SUMMARY:Team Standings as of August 8\, 2025
DESCRIPTION:Cohasset  242.5\nMarshfield 235\nPlymouth 229\nHatherly 216.5\nDuxbury 212.5\nScituate 210\nWollaston 192.5\nHalifax 190
URL:https://wssgl.com/event/team-standings-as-of-august-8-2025/
CATEGORIES:2025 Team Standings
END:VEVENT
BEGIN:VEVENT
DTSTART;VALUE=DATE:20250801
DTEND;VALUE=DATE:20250802
DTSTAMP:20260423T032141
CREATED:20250802T200143Z
LAST-MODIFIED:20250802T201204Z
UID:10000130-1754006400-1754092799@wssgl.com
SUMMARY:Team Standings as of August 1\, 2025
DESCRIPTION:Cohasset  242.5\nMarshfield 235\nPlymouth 229\nHatherly 216.5\nDuxbury 212.5\nScituate 210\nWollaston 192.5\nHalifax 190
URL:https://wssgl.com/event/team-standings-as-of-august-1-2025/
CATEGORIES:2025 Team Standings
END:VEVENT
BEGIN:VEVENT
DTSTART;VALUE=DATE:20250718
DTEND;VALUE=DATE:20250719
DTSTAMP:20260423T032141
CREATED:20250717T231657Z
LAST-MODIFIED:20250802T201157Z
UID:10000129-1752796800-1752883199@wssgl.com
SUMMARY:Team Standings as of July 18\, 2025
DESCRIPTION:Cohasset 184\nMarshfield 176\nPlymouth 165.5\nDuxbury 163\nScituate 161\nHatherly 153\nWollaston 148\nHalifax 145.5
URL:https://wssgl.com/event/team-standings-as-of-july-18-2025/
CATEGORIES:2025 Team Standings
END:VEVENT
END:VCALENDAR