BEGIN:VCALENDAR
VERSION:2.0
PRODID:-//WSSGL - ECPv6.15.20//NONSGML v1.0//EN
CALSCALE:GREGORIAN
METHOD:PUBLISH
X-ORIGINAL-URL:https://wssgl.com
X-WR-CALDESC:Events for WSSGL
REFRESH-INTERVAL;VALUE=DURATION:PT1H
X-Robots-Tag:noindex
X-PUBLISHED-TTL:PT1H
BEGIN:VTIMEZONE
TZID:America/New_York
BEGIN:DAYLIGHT
TZOFFSETFROM:-0500
TZOFFSETTO:-0400
TZNAME:EDT
DTSTART:20230312T070000
END:DAYLIGHT
BEGIN:STANDARD
TZOFFSETFROM:-0400
TZOFFSETTO:-0500
TZNAME:EST
DTSTART:20231105T060000
END:STANDARD
BEGIN:DAYLIGHT
TZOFFSETFROM:-0500
TZOFFSETTO:-0400
TZNAME:EDT
DTSTART:20240310T070000
END:DAYLIGHT
BEGIN:STANDARD
TZOFFSETFROM:-0400
TZOFFSETTO:-0500
TZNAME:EST
DTSTART:20241103T060000
END:STANDARD
BEGIN:DAYLIGHT
TZOFFSETFROM:-0500
TZOFFSETTO:-0400
TZNAME:EDT
DTSTART:20250309T070000
END:DAYLIGHT
BEGIN:STANDARD
TZOFFSETFROM:-0400
TZOFFSETTO:-0500
TZNAME:EST
DTSTART:20251102T060000
END:STANDARD
END:VTIMEZONE
BEGIN:VEVENT
DTSTART;TZID=America/New_York:20240725T083000
DTEND;TZID=America/New_York:20240725T133000
DTSTAMP:20260422T221525
CREATED:20240401T152017Z
LAST-MODIFIED:20240726T174328Z
UID:10000072-1721896200-1721914200@wssgl.com
SUMMARY:Match 5: *Plymouth 57.5* Halifax 50.5
DESCRIPTION:Halifax @ Plymouth \nScituate @ Cohasset\nDuxbury @Wollaston\nHatherly @ Marshfield
URL:https://wssgl.com/event/match-5-halifax-plymouth/
LOCATION:Plymouth Country Club\, 221 Warren Ave\, Plymouth\, MA\, 02360\, United States
CATEGORIES:2024 Match Result,2024 Team Match,Halifax,Plymouth
ATTACH;FMTTYPE=image/jpeg:https://wssgl.com/wp-content/uploads/2023/04/13.jpg
END:VEVENT
BEGIN:VEVENT
DTSTART;TZID=America/New_York:20240725T083000
DTEND;TZID=America/New_York:20240725T133000
DTSTAMP:20260422T221525
CREATED:20240401T151804Z
LAST-MODIFIED:20240726T174411Z
UID:10000071-1721896200-1721914200@wssgl.com
SUMMARY:Match 5: *Marshfield 70* Halifax 38
DESCRIPTION:Hatherly @ Marshfield\nHalifax @ Plymouth\nScituate @ Cohasset\nDuxbury @Wollaston
URL:https://wssgl.com/event/match-5-hatherly-marshfield/
LOCATION:Marshfield Country Club\, 515 Moraine Street\, Marshfield\, 02050\, United States
CATEGORIES:2024 Match Result,2024 Team Match,Hatherly,Marshfield
ATTACH;FMTTYPE=image/jpeg:https://wssgl.com/wp-content/uploads/2023/04/10.jpg
END:VEVENT
BEGIN:VEVENT
DTSTART;TZID=America/New_York:20240725T083000
DTEND;TZID=America/New_York:20240725T133000
DTSTAMP:20260422T221525
CREATED:20240401T151604Z
LAST-MODIFIED:20240726T174444Z
UID:10000070-1721896200-1721914200@wssgl.com
SUMMARY:Match 5: *Wollaston 58.5* Duxbury 49.5
DESCRIPTION:Duxbury @Wollaston\nHatherly @ Marshfield\nHalifax @ Plymouth\nScituate @ Cohasset
URL:https://wssgl.com/event/match-5-duxbury-wollaston/
LOCATION:Wollaston Golf Club\, 999 Randolph Ave\, Milton\, MA\, 02186\, United States
CATEGORIES:2024 Match Result,2024 Team Match,Duxbury,Wollaston
ATTACH;FMTTYPE=image/jpeg:https://wssgl.com/wp-content/uploads/2023/04/12.jpg
END:VEVENT
BEGIN:VEVENT
DTSTART;TZID=America/New_York:20240711T083000
DTEND;TZID=America/New_York:20240711T133000
DTSTAMP:20260422T221525
CREATED:20240401T151305Z
LAST-MODIFIED:20240713T190334Z
UID:10000069-1720686600-1720704600@wssgl.com
SUMMARY:Match 4: *Hatherly 57.5* Wollaston 50.5
DESCRIPTION:Wollaston @ Hatherly (7/11)\nPlymouth @ Cohasset (7/9)\nDuxbury @ Scituate (7/9)\nMarshfield @Halifax (7/11)
URL:https://wssgl.com/event/match-4-wollaston-hatherly/
LOCATION:Plymouth Country Club\, 221 Warren Ave\, Plymouth\, MA\, 02360\, United States
CATEGORIES:2024 Match Result,2024 Team Match,Hatherly,Wollaston
ATTACH;FMTTYPE=image/jpeg:https://wssgl.com/wp-content/uploads/2023/04/3.jpg
END:VEVENT
BEGIN:VEVENT
DTSTART;TZID=America/New_York:20240711T083000
DTEND;TZID=America/New_York:20240711T133000
DTSTAMP:20260422T221525
CREATED:20240401T150800Z
LAST-MODIFIED:20240713T190511Z
UID:10000067-1720686600-1720704600@wssgl.com
SUMMARY:Match 4: *Marshfield 59* Halifax 49
DESCRIPTION:Marshfield @Halifax (7/11)\nPlymouth @ Cohasset (7/9)\nWollaston @ Hatherly (7/11)\nDuxbury @ Scituate (7/9)
URL:https://wssgl.com/event/match-4-marshfield-halifax/
LOCATION:Halifax Country Club
CATEGORIES:2024 Match Result,2024 Team Match,Halifax,Marshfield
ATTACH;FMTTYPE=image/jpeg:https://wssgl.com/wp-content/uploads/2023/04/11.jpg
END:VEVENT
BEGIN:VEVENT
DTSTART;TZID=America/New_York:20240709T083000
DTEND;TZID=America/New_York:20240709T133000
DTSTAMP:20260422T221525
CREATED:20240401T151042Z
LAST-MODIFIED:20240713T190428Z
UID:10000068-1720513800-1720531800@wssgl.com
SUMMARY:Match 4: *Cohasset 68.5* Plymouth 39.5
DESCRIPTION:Plymouth @ Cohasset (7/9)\nWollaston @ Hatherly (7/11)\nDuxbury @ Scituate (7/9)\nMarshfield @Halifax (7/11)
URL:https://wssgl.com/event/match-4-plymouth-cohasset/
LOCATION:Plymouth Country Club\, 221 Warren Ave\, Plymouth\, MA\, 02360\, United States
CATEGORIES:2024 Match Result,2024 Team Match,Cohasset,Plymouth
ATTACH;FMTTYPE=image/jpeg:https://wssgl.com/wp-content/uploads/2023/04/3.jpg
END:VEVENT
BEGIN:VEVENT
DTSTART;TZID=America/New_York:20240709T083000
DTEND;TZID=America/New_York:20240709T133000
DTSTAMP:20260422T221525
CREATED:20240401T150617Z
LAST-MODIFIED:20240713T191412Z
UID:10000066-1720513800-1720531800@wssgl.com
SUMMARY:Match 4: *Scituate 61.5* Duxbury 46.5
DESCRIPTION:Duxbury @ Scituate (7/9)\nMarshfield @Halifax (7/11)\nPlymouth @ Cohasset (7/9)\nWollaston @ Hatherly (7/11)
URL:https://wssgl.com/event/match-4-duxbury-scituate/
LOCATION:Scituate Country Club\, 91 Driftway\, Scituate\, MA\, 02066\, United States
CATEGORIES:2024 Match Result,2024 Team Match,Duxbury,Scituate
ATTACH;FMTTYPE=image/jpeg:https://wssgl.com/wp-content/uploads/2023/04/14.jpg
END:VEVENT
BEGIN:VEVENT
DTSTART;TZID=America/New_York:20240625T083000
DTEND;TZID=America/New_York:20240625T133000
DTSTAMP:20260422T221525
CREATED:20240401T145610Z
LAST-MODIFIED:20240713T190241Z
UID:10000062-1719304200-1719322200@wssgl.com
SUMMARY:Match 3: *Scituate 62.5* Hatherly 45.5
DESCRIPTION:Hatherly @ Scituate\nCohasset @ Hatherly (6/27)\nDuxbury @ Plymouth (6/27)\nMarshfield @ Wollaston (6/27)
URL:https://wssgl.com/event/match-3-hatherly-scituate/
LOCATION:Scituate Country Club\, 91 Driftway\, Scituate\, MA\, 02066\, United States
CATEGORIES:2024 Match Result,2024 Team Match,Hatherly,Scituate
ATTACH;FMTTYPE=image/jpeg:https://wssgl.com/wp-content/uploads/2023/04/14.jpg
END:VEVENT
BEGIN:VEVENT
DTSTART;TZID=America/New_York:20240620T083000
DTEND;TZID=America/New_York:20240620T143000
DTSTAMP:20260422T221525
CREATED:20240401T144534Z
LAST-MODIFIED:20240620T234816Z
UID:10000058-1718872200-1718893800@wssgl.com
SUMMARY:Match 2: *Marshfield 61* Duxbury 47
DESCRIPTION:Marshfield @Duxbury\nScituate @Wollaston\nHalifax @Cohasset 6/18\nHatherly @ Plymouth
URL:https://wssgl.com/event/match-2-marshfield-duxbury-2/
LOCATION:Duxbury Yacht Club\, 70 Fairway Lane\, Duxbury\, 02332\, United States
CATEGORIES:2024 Match Result,2024 Team Match,Duxbury,Marshfield
ATTACH;FMTTYPE=image/png:https://wssgl.com/wp-content/uploads/2023/04/DYC-Logo-WSSGL.png
END:VEVENT
BEGIN:VEVENT
DTSTART;TZID=America/New_York:20240620T083000
DTEND;TZID=America/New_York:20240620T133000
DTSTAMP:20260422T221525
CREATED:20240401T144011Z
LAST-MODIFIED:20240620T234851Z
UID:10000059-1718872200-1718890200@wssgl.com
SUMMARY:Match 2: *Scituate 55.5*  Wollaston 52.5
DESCRIPTION:Scituate @Wollaston\nHalifax@ Cohasset 6/18\nHatherly @ Plymouth\nMarshfield@ Duxbury
URL:https://wssgl.com/event/match-2-scituate-wollaston/
LOCATION:Wollaston Golf Club\, 999 Randolph Ave\, Milton\, MA\, 02186\, United States
CATEGORIES:2024 Match Result,2024 Team Match,Scituate,Wollaston
ATTACH;FMTTYPE=image/jpeg:https://wssgl.com/wp-content/uploads/2023/04/12.jpg
END:VEVENT
BEGIN:VEVENT
DTSTART;TZID=America/New_York:20240620T083000
DTEND;TZID=America/New_York:20240620T133000
DTSTAMP:20260422T221525
CREATED:20240401T143828Z
LAST-MODIFIED:20240620T234929Z
UID:10000060-1718872200-1718890200@wssgl.com
SUMMARY:Match 2: *Plymouth 59.5* Hatherly *48.5
DESCRIPTION:Hatherly @ Plymouth\nMarshfield@ Duxbury\nScituate @Wollaston\nHalifax@ Cohasset 6/18
URL:https://wssgl.com/event/match-2-hatherly-plymouth/
LOCATION:Plymouth Country Club\, 221 Warren Ave\, Plymouth\, MA\, 02360\, United States
CATEGORIES:2024 Match Result,2024 Team Match,Hatherly,Plymouth
ATTACH;FMTTYPE=image/jpeg:https://wssgl.com/wp-content/uploads/2023/04/13.jpg
END:VEVENT
BEGIN:VEVENT
DTSTART;TZID=America/New_York:20240618T083000
DTEND;TZID=America/New_York:20240618T133000
DTSTAMP:20260422T221525
CREATED:20240401T143648Z
LAST-MODIFIED:20240620T235008Z
UID:10000061-1718699400-1718717400@wssgl.com
SUMMARY:Match 2: *Cohasset 73.5* Halifax 34.5
DESCRIPTION:Halifax@ Cohasset 6/18\nHatherly @ Plymouth\nMarshfield@ Duxbury\nScituate @Wollaston
URL:https://wssgl.com/event/match-2-halifax-cohasset/
LOCATION:Cohasset Golf Club\, 175 Lamberts Lane\, Cohasset\, MA\, 02025\, United States
CATEGORIES:2024 Match Result,2024 Team Match,Cohasset,Halifax
ATTACH;FMTTYPE=image/jpeg:https://wssgl.com/wp-content/uploads/2023/04/3.jpg
END:VEVENT
BEGIN:VEVENT
DTSTART;TZID=America/New_York:20240613T083000
DTEND;TZID=America/New_York:20240613T133000
DTSTAMP:20260422T221525
CREATED:20240401T142648Z
LAST-MODIFIED:20240614T173619Z
UID:10000054-1718267400-1718285400@wssgl.com
SUMMARY:Match 1: *Hatherly 57.5* Scituate 50.5
DESCRIPTION:Scituate @ Hatherly
URL:https://wssgl.com/event/match-1-scituate-hatherly/
LOCATION:Hatherly Country Club\, 663 Hatherly Rd\, Scituate\, MA\, 02066\, United States
CATEGORIES:2024 Match Result,2024 Team Match,Hatherly,Scituate
ATTACH;FMTTYPE=image/jpeg:https://wssgl.com/wp-content/uploads/2023/04/4.jpg
END:VEVENT
BEGIN:VEVENT
DTSTART;TZID=America/New_York:20240613T083000
DTEND;TZID=America/New_York:20240613T133000
DTSTAMP:20260422T221525
CREATED:20240401T142613Z
LAST-MODIFIED:20240614T173740Z
UID:10000055-1718267400-1718285400@wssgl.com
SUMMARY:Match 1: *Halifax 56* Duxbury 52
DESCRIPTION:Duxbury @ Halifax
URL:https://wssgl.com/event/match-1-duxbury-halifax/
LOCATION:Halifax Country Club
CATEGORIES:2024 Match Result,2024 Team Match,Duxbury,Halifax
ATTACH;FMTTYPE=image/jpeg:https://wssgl.com/wp-content/uploads/2023/04/11.jpg
END:VEVENT
BEGIN:VEVENT
DTSTART;TZID=America/New_York:20240613T083000
DTEND;TZID=America/New_York:20240613T133000
DTSTAMP:20260422T221525
CREATED:20240401T142447Z
LAST-MODIFIED:20240614T173817Z
UID:10000056-1718267400-1718285400@wssgl.com
SUMMARY:Match 1: *Marshfield 66.5* Plymouth 41.5
DESCRIPTION:Plymouth @ Marshfield
URL:https://wssgl.com/event/match-1-plymouth-marshfield/
LOCATION:Marshfield Country Club\, 515 Moraine Street\, Marshfield\, 02050\, United States
CATEGORIES:2024 Match Result,2024 Team Match,Marshfield,Plymouth
ATTACH;FMTTYPE=image/jpeg:https://wssgl.com/wp-content/uploads/2023/04/10.jpg
END:VEVENT
BEGIN:VEVENT
DTSTART;TZID=America/New_York:20240613T083000
DTEND;TZID=America/New_York:20240613T133000
DTSTAMP:20260422T221525
CREATED:20240401T142028Z
LAST-MODIFIED:20240614T173858Z
UID:10000057-1718267400-1718285400@wssgl.com
SUMMARY:Match 1: *Cohasset 66.5* Wollaston 41.5
DESCRIPTION:Wollaston @ Cohasset
URL:https://wssgl.com/event/match-1-wollaston-cohasset/
LOCATION:Cohasset Golf Club\, 175 Lamberts Lane\, Cohasset\, MA\, 02025\, United States
CATEGORIES:2024 Match Result,2024 Team Match,Cohasset,Wollaston
ATTACH;FMTTYPE=image/jpeg:https://wssgl.com/wp-content/uploads/2023/04/3.jpg
END:VEVENT
END:VCALENDAR