BEGIN:VCALENDAR
VERSION:2.0
PRODID:-//WSSGL - ECPv6.15.20//NONSGML v1.0//EN
CALSCALE:GREGORIAN
METHOD:PUBLISH
X-WR-CALNAME:WSSGL
X-ORIGINAL-URL:https://wssgl.com
X-WR-CALDESC:Events for WSSGL
REFRESH-INTERVAL;VALUE=DURATION:PT1H
X-Robots-Tag:noindex
X-PUBLISHED-TTL:PT1H
BEGIN:VTIMEZONE
TZID:America/New_York
BEGIN:DAYLIGHT
TZOFFSETFROM:-0500
TZOFFSETTO:-0400
TZNAME:EDT
DTSTART:20230312T070000
END:DAYLIGHT
BEGIN:STANDARD
TZOFFSETFROM:-0400
TZOFFSETTO:-0500
TZNAME:EST
DTSTART:20231105T060000
END:STANDARD
BEGIN:DAYLIGHT
TZOFFSETFROM:-0500
TZOFFSETTO:-0400
TZNAME:EDT
DTSTART:20240310T070000
END:DAYLIGHT
BEGIN:STANDARD
TZOFFSETFROM:-0400
TZOFFSETTO:-0500
TZNAME:EST
DTSTART:20241103T060000
END:STANDARD
BEGIN:DAYLIGHT
TZOFFSETFROM:-0500
TZOFFSETTO:-0400
TZNAME:EDT
DTSTART:20250309T070000
END:DAYLIGHT
BEGIN:STANDARD
TZOFFSETFROM:-0400
TZOFFSETTO:-0500
TZNAME:EST
DTSTART:20251102T060000
END:STANDARD
END:VTIMEZONE
BEGIN:VEVENT
DTSTART;TZID=America/New_York:20240613T083000
DTEND;TZID=America/New_York:20240613T133000
DTSTAMP:20260422T182617
CREATED:20240401T142648Z
LAST-MODIFIED:20240614T173619Z
UID:5479-1718267400-1718285400@wssgl.com
SUMMARY:Match 1: *Hatherly 57.5* Scituate 50.5
DESCRIPTION:Scituate @ Hatherly
URL:https://wssgl.com/event/match-1-scituate-hatherly/
LOCATION:Hatherly Country Club\, 663 Hatherly Rd\, Scituate\, MA\, 02066\, United States
CATEGORIES:2024 Match Result,2024 Team Match,Hatherly,Scituate
ATTACH;FMTTYPE=image/jpeg:https://wssgl.com/wp-content/uploads/2023/04/4.jpg
END:VEVENT
END:VCALENDAR